BEGIN:VCALENDAR
VERSION:2.0
PRODID:-//The Author Space - ECPv6.15.20//NONSGML v1.0//EN
CALSCALE:GREGORIAN
METHOD:PUBLISH
X-WR-CALNAME:The Author Space
X-ORIGINAL-URL:https://theauthorspace.com
X-WR-CALDESC:Events for The Author Space
REFRESH-INTERVAL;VALUE=DURATION:PT1H
X-Robots-Tag:noindex
X-PUBLISHED-TTL:PT1H
BEGIN:VTIMEZONE
TZID:America/New_York
BEGIN:DAYLIGHT
TZOFFSETFROM:-0500
TZOFFSETTO:-0400
TZNAME:EDT
DTSTART:20250309T070000
END:DAYLIGHT
BEGIN:STANDARD
TZOFFSETFROM:-0400
TZOFFSETTO:-0500
TZNAME:EST
DTSTART:20251102T060000
END:STANDARD
BEGIN:DAYLIGHT
TZOFFSETFROM:-0500
TZOFFSETTO:-0400
TZNAME:EDT
DTSTART:20260308T070000
END:DAYLIGHT
BEGIN:STANDARD
TZOFFSETFROM:-0400
TZOFFSETTO:-0500
TZNAME:EST
DTSTART:20261101T060000
END:STANDARD
BEGIN:DAYLIGHT
TZOFFSETFROM:-0500
TZOFFSETTO:-0400
TZNAME:EDT
DTSTART:20270314T070000
END:DAYLIGHT
BEGIN:STANDARD
TZOFFSETFROM:-0400
TZOFFSETTO:-0500
TZNAME:EST
DTSTART:20271107T060000
END:STANDARD
END:VTIMEZONE
BEGIN:VEVENT
DTSTART;TZID=America/New_York:20260418T080000
DTEND;TZID=America/New_York:20260418T170000
DTSTAMP:20260425T065112
CREATED:20260412T200444Z
LAST-MODIFIED:20260412T200444Z
UID:5143-1776499200-1776531600@theauthorspace.com
SUMMARY:Midwest Literary Walk—Chelsea\, MI
DESCRIPTION:Lit Walk is a series of author interviews or presentations\, all hosted on the same day and held at different venues within walking distance from one another. Intended to be a celebration of literature\, reading\, and the Chelsea community\, featuring nationally recognized\, high-caliber authors who speak right in historic downtown.
URL:https://theauthorspace.com/event/midwest-literary-walk-chelsea-mi/
END:VEVENT
BEGIN:VEVENT
DTSTART;TZID=America/New_York:20260418T080000
DTEND;TZID=America/New_York:20260419T170000
DTSTAMP:20260425T065112
CREATED:20260403T042958Z
LAST-MODIFIED:20260403T042958Z
UID:5111-1776499200-1776618000@theauthorspace.com
SUMMARY:Los Angeles Times Festival of Books
DESCRIPTION:Attracting approximately 160\,000 people of all ages each year from Southern California and all around the country\, this festival brings together the people who create books with the people who love to read them. Featured guests include Lionel Richie\, Sarah Jessica Parker\, Alexandra Oliva\, and Larry David.
URL:https://theauthorspace.com/event/los-angeles-times-festival-of-books/
LOCATION:University of Southern California\, Los Angeles\, CA\, United States
END:VEVENT
BEGIN:VEVENT
DTSTART;TZID=America/New_York:20260419T080000
DTEND;TZID=America/New_York:20260419T170000
DTSTAMP:20260425T065112
CREATED:20260403T043543Z
LAST-MODIFIED:20260403T043543Z
UID:5114-1776585600-1776618000@theauthorspace.com
SUMMARY:Sacramento Book Festival
DESCRIPTION:This major literary event is now being held in a new venue\, the Scottish Rite Masonic Center in East. This year’s festival will feature more big name authors and great prizes\, along with multiple food trucks and outdoor seating. Hosting more than 200 authors\, including Kim Stanley Robinson\, Allison Brennan\, James Rollins\, Brenda Novak\, and so many more.
URL:https://theauthorspace.com/event/sacramento-book-festival/
LOCATION:Scottish Rite Masonic Center\, Sacramento\, California\, United States
END:VEVENT
BEGIN:VEVENT
DTSTART;TZID=America/New_York:20260423T080000
DTEND;TZID=America/New_York:20260425T170000
DTSTAMP:20260425T065112
CREATED:20260412T222336Z
LAST-MODIFIED:20260412T222336Z
UID:5145-1776931200-1777136400@theauthorspace.com
SUMMARY:Las Vegas Writers Conference—Las Vegas\, NV
DESCRIPTION:Held each spring\, the Las Vegas Writers Conference is dedicated to helping writers of all genres improve their craft\, sharpen their business skills\, and network with publishing professionals.
URL:https://theauthorspace.com/event/las-vegas-writers-conference-las-vegas-nv/
END:VEVENT
BEGIN:VEVENT
DTSTART;TZID=America/New_York:20260424T080000
DTEND;TZID=America/New_York:20260426T170000
DTSTAMP:20260425T065112
CREATED:20260412T195114Z
LAST-MODIFIED:20260412T195328Z
UID:5137-1777017600-1777222800@theauthorspace.com
SUMMARY:Word of South: A Festival of Literature and Music - Tallahassee\, FL
DESCRIPTION:Word of [South]\, a festival of literature and music\, is a unique blend of writers and musicians and an exploration of the relationship between the two disciplines. Beginning with our first festival in 2015\, the festival showcases authors who write about music\, musicians who also are authors\, authors and musicians trading places\, and everything in between. We’re especially proud of our “mu-aushups”: authors and musicians appearing together (some of whom have never met)\, as well as our cookbook authors\, kids programming and musical performances of every genre–we’ve got gospel and HipHop\, pop and bluegrass\, jazz and country\, Americana and R&B. Bring the whole family\, and come see what’s down South!
URL:https://theauthorspace.com/event/word-of-south-a-festival-of-literature-and-music/
END:VEVENT
BEGIN:VEVENT
DTSTART;TZID=America/New_York:20260424T080000
DTEND;TZID=America/New_York:20260426T170000
DTSTAMP:20260425T065112
CREATED:20260412T195831Z
LAST-MODIFIED:20260412T195831Z
UID:5141-1777017600-1777222800@theauthorspace.com
SUMMARY:Newburyport Literary Festival—Newburyport\, MA
DESCRIPTION:The Newburyport Literary Association\, Inc.\, was founded in 2005 and hosts an annual Festival that brings together readers and writers for a weekend of readings\, panel discussions\, and other book-related events. Guests include Elin Hilderbrand and Hank Phillippi Ryan.
URL:https://theauthorspace.com/event/newburyport-literary-festival-newburyport-ma/
END:VEVENT
END:VCALENDAR