BEGIN:VCALENDAR
VERSION:2.0
PRODID:-//The Author Space - ECPv6.15.20//NONSGML v1.0//EN
CALSCALE:GREGORIAN
METHOD:PUBLISH
X-ORIGINAL-URL:https://theauthorspace.com
X-WR-CALDESC:Events for The Author Space
REFRESH-INTERVAL;VALUE=DURATION:PT1H
X-Robots-Tag:noindex
X-PUBLISHED-TTL:PT1H
BEGIN:VTIMEZONE
TZID:America/New_York
BEGIN:DAYLIGHT
TZOFFSETFROM:-0500
TZOFFSETTO:-0400
TZNAME:EDT
DTSTART:20240310T070000
END:DAYLIGHT
BEGIN:STANDARD
TZOFFSETFROM:-0400
TZOFFSETTO:-0500
TZNAME:EST
DTSTART:20241103T060000
END:STANDARD
BEGIN:DAYLIGHT
TZOFFSETFROM:-0500
TZOFFSETTO:-0400
TZNAME:EDT
DTSTART:20250309T070000
END:DAYLIGHT
BEGIN:STANDARD
TZOFFSETFROM:-0400
TZOFFSETTO:-0500
TZNAME:EST
DTSTART:20251102T060000
END:STANDARD
BEGIN:DAYLIGHT
TZOFFSETFROM:-0500
TZOFFSETTO:-0400
TZNAME:EDT
DTSTART:20260308T070000
END:DAYLIGHT
BEGIN:STANDARD
TZOFFSETFROM:-0400
TZOFFSETTO:-0500
TZNAME:EST
DTSTART:20261101T060000
END:STANDARD
BEGIN:DAYLIGHT
TZOFFSETFROM:-0500
TZOFFSETTO:-0400
TZNAME:EDT
DTSTART:20270314T070000
END:DAYLIGHT
BEGIN:STANDARD
TZOFFSETFROM:-0400
TZOFFSETTO:-0500
TZNAME:EST
DTSTART:20271107T060000
END:STANDARD
END:VTIMEZONE
BEGIN:VEVENT
DTSTART;VALUE=DATE:20250920
DTEND;VALUE=DATE:20250921
DTSTAMP:20260425T092220
CREATED:20250820T174456Z
LAST-MODIFIED:20250820T174456Z
UID:3610-1758326400-1758412799@theauthorspace.com
SUMMARY:LitUp Festival—Kansas City\, Missouri
DESCRIPTION:An all-day event that brings Kansas City-area teens together with authors\, poets\, illustrators\, and other creators. Not only will attendees be able to meet their favorite authors\, but they’ll also learn new ways to harness their own creative talents.
URL:https://theauthorspace.com/event/litup-festival-kansas-city-missouri/
END:VEVENT
BEGIN:VEVENT
DTSTART;VALUE=DATE:20250921
DTEND;VALUE=DATE:20250922
DTSTAMP:20260425T092220
CREATED:20250820T175122Z
LAST-MODIFIED:20250820T175122Z
UID:3614-1758412800-1758499199@theauthorspace.com
SUMMARY:Brooklyn Book Festival—Brooklyn\, New York
DESCRIPTION:A literary celebration that includes readers\, publishers\, booksellers\, and hundreds of authors.  More than 200 local\, international\, debut and iconic authors are presented in panel discussions and book-signings on outdoor stages and with partner venues in Downtown Brooklyn.
URL:https://theauthorspace.com/event/brooklyn-book-festival-brooklyn-new-york/
END:VEVENT
BEGIN:VEVENT
DTSTART;TZID=America/New_York:20250925T080000
DTEND;TZID=America/New_York:20250928T170000
DTSTAMP:20260425T092220
CREATED:20250820T180512Z
LAST-MODIFIED:20250820T180512Z
UID:3620-1758787200-1759078800@theauthorspace.com
SUMMARY:Bookmarks Festival of Books—Winston-Salem\, North Carolina
DESCRIPTION:Begun as an annual book festival in 2004\, this has since grown to be the largest annual book festival in the Carolinas—part of the organization’s mission to cultivate community by bringing people of all ages together with books and authors that educate\, inspire\, challenge\, and entertain.
URL:https://theauthorspace.com/event/bookmarks-festival-of-books-winston-salem-north-carolina/
END:VEVENT
BEGIN:VEVENT
DTSTART;TZID=America/New_York:20250925T080000
DTEND;TZID=America/New_York:20250928T170000
DTSTAMP:20260425T092220
CREATED:20250820T183534Z
LAST-MODIFIED:20250820T183534Z
UID:3632-1758787200-1759078800@theauthorspace.com
SUMMARY:Central Wisconsin Book Festival—Wausau\, Wisconsin
DESCRIPTION:he goal of this festival is to provide book lovers in Central Wisconsin and beyond with a chance to hear and meet a multitude of authors over the course of several days. It gives people a chance to build their own connections through their mutual passion for literature in its many forms and genres.
URL:https://theauthorspace.com/event/central-wisconsin-book-festival-wausau-wisconsin/
END:VEVENT
BEGIN:VEVENT
DTSTART;TZID=America/New_York:20250926T080000
DTEND;TZID=America/New_York:20250928T170000
DTSTAMP:20260425T092220
CREATED:20250820T023012Z
LAST-MODIFIED:20250820T023012Z
UID:3567-1758873600-1759078800@theauthorspace.com
SUMMARY:History Book Festival
DESCRIPTION:The only book festival dedicated to history through story\, showcasing new historical fiction and narrative nonfiction from multiple subjects\, eras\, and voices. 95% of HBF’s 22 author presentations are free and open to all\, drawing readers from 30 states and abroad to this singular event at the Delaware beaches in historic Lewes.
URL:https://theauthorspace.com/event/history-book-festival/
LOCATION:Lewes\, Delaware\, Lewes\, Delaware\, United States
END:VEVENT
BEGIN:VEVENT
DTSTART;TZID=America/New_York:20250926T080000
DTEND;TZID=America/New_York:20250928T170000
DTSTAMP:20260425T092220
CREATED:20250820T173312Z
LAST-MODIFIED:20250820T173312Z
UID:3602-1758873600-1759078800@theauthorspace.com
SUMMARY:Harbor Springs Festival of the Book—Harbors Springs\, Michigan
DESCRIPTION:A three-day celebration of readers\, writers\, books\, and the literary craft\, featuring up to 50 nationally published authors and illustrators in sessions including such genres as fiction\, nonfiction\, mystery/thriller\, poetry\, cookbook\, and children’s.
URL:https://theauthorspace.com/event/harbor-springs-festival-of-the-book-harbors-springs-michigan/
END:VEVENT
BEGIN:VEVENT
DTSTART;TZID=America/New_York:20250926T080000
DTEND;TZID=America/New_York:20250928T170000
DTSTAMP:20260425T092220
CREATED:20250820T181949Z
LAST-MODIFIED:20250820T181949Z
UID:3626-1758873600-1759078800@theauthorspace.com
SUMMARY:South Dakota Festival of Books—Spearfish\, South Dakota
DESCRIPTION:The state’s premier literary event\, celebrating literature in South Dakota and beyond by connecting the very best regional and national writers with the  state’s readers for conversations\, presentations\, panel discussions\, book signings\, and special events.
URL:https://theauthorspace.com/event/south-dakota-festival-of-books-spearfish-south-dakota/
END:VEVENT
BEGIN:VEVENT
DTSTART;VALUE=DATE:20250927
DTEND;VALUE=DATE:20250928
DTSTAMP:20260425T092220
CREATED:20250820T175753Z
LAST-MODIFIED:20250820T175753Z
UID:3616-1758931200-1759017599@theauthorspace.com
SUMMARY:Albany Book Festival—Albany\, New York
DESCRIPTION:This annual fall festival features bestselling authors\, panel discussions\, book-signing sessions\, online workshops for aspiring writers\, and areas dedicated to young-adult and children’s books. Regional authors and poets join in open mic sessions. Dozens of authors\, bookstores\, publishers\, and literary organizations will be featured online.
URL:https://theauthorspace.com/event/albany-book-festival-albany-new-york/
END:VEVENT
BEGIN:VEVENT
DTSTART;VALUE=DATE:20250927
DTEND;VALUE=DATE:20250928
DTSTAMP:20260425T092220
CREATED:20250820T180047Z
LAST-MODIFIED:20250820T180047Z
UID:3618-1758931200-1759017599@theauthorspace.com
SUMMARY:Chappaqua Children's Book Festival—Chappaqua\, New York
DESCRIPTION:There’s real magic in meeting the people behind the stories your family loves and learns from. Meet authors and illustrators\, enjoy live storytimes with authors\, learn from author talks\, and have a ton of fun at the Family Fun Zone.
URL:https://theauthorspace.com/event/chappaqua-childrens-book-festival-chappaqua-new-york/
END:VEVENT
BEGIN:VEVENT
DTSTART;VALUE=DATE:20250927
DTEND;VALUE=DATE:20250928
DTSTAMP:20260425T092220
CREATED:20250820T181329Z
LAST-MODIFIED:20250820T181329Z
UID:3624-1758931200-1759017599@theauthorspace.com
SUMMARY:Books\, Books\, Books Event—Lancaster\, Pennsylvania
DESCRIPTION:Now in its 4th year\, this author signing event that brings in more than 140  authors is open to all genres. Hosted by Amy Garnet (6 Feet Under Books) and author Mary Walsh.
URL:https://theauthorspace.com/event/books-books-books-event-lancaster-pennsylvania/
END:VEVENT
BEGIN:VEVENT
DTSTART;VALUE=DATE:20250927
DTEND;VALUE=DATE:20250928
DTSTAMP:20260425T092220
CREATED:20250820T183808Z
LAST-MODIFIED:20250820T183808Z
UID:3634-1758931200-1759017599@theauthorspace.com
SUMMARY:Jackson Hole Book Festival—Jackson Hole\, Wyoming
DESCRIPTION:Book lovers\, start preparing your reading lists for the second annual Jackson Hole Book Festival\, free for all who attend. Meet nationally acclaimed and award winning authors\, participate in spirited conversations\, buy Festival books from our local bookstore\, JH Book Trader\, and have the books signed by the authors.
URL:https://theauthorspace.com/event/jackson-hole-book-festival-jackson-hole-wyoming/
END:VEVENT
BEGIN:VEVENT
DTSTART;TZID=America/New_York:20250928T080000
DTEND;TZID=America/New_York:20251005T170000
DTSTAMP:20260425T092220
CREATED:20250820T021843Z
LAST-MODIFIED:20250820T021843Z
UID:3561-1759046400-1759683600@theauthorspace.com
SUMMARY:Six Bridges Book Festival
DESCRIPTION:An event celebrating reading\, literacy\, stories\, and wordsmithing. Scores of nationally known authors converge on the city to offer panels on a wide variety of topics\, from cooking demonstrations to award-winning comedy. Authors also venture into the community for efforts such as Writers in the Schools (WITS)\, bringing the joy of writing to hundreds of students in central Arkansas.
URL:https://theauthorspace.com/event/six-bridges-book-festival/
LOCATION:Little Rock\, Arkansas\, Little Rock\, Arkansas\, United States
END:VEVENT
BEGIN:VEVENT
DTSTART;TZID=America/New_York:20260108T080000
DTEND;TZID=America/New_York:20260111T170000
DTSTAMP:20260425T092220
CREATED:20251109T191415Z
LAST-MODIFIED:20251109T191415Z
UID:3896-1767859200-1768150800@theauthorspace.com
SUMMARY:Key West Literary Seminar—Key West\, Florida
DESCRIPTION:The Key West Literary Seminar is a four-day literary celebration that explores a different theme each year. In January 2026\, we’ll focus on the novel. In particular\, we’re interested in how the novel\, as one of the slowest art forms\, is working now in a world of shortened attention spans. And the varied strategies novelists are using to reach audiences that have become more fragmented and subject to increasing distractions.\nJoin us for this unique opportunity to explore the form and history of the novel with some of its most acclaimed practitioners and interpreters at the 43rd annual Key West Literary Seminar\, January 8–11\, 2026. Confirmed presenters are pictured below; click through for additional biographical material\, brief bibliographies\, and links to other resources around the web.
URL:https://theauthorspace.com/event/key-west-literary-seminar-key-west-florida/
END:VEVENT
BEGIN:VEVENT
DTSTART;TZID=America/New_York:20260116T080000
DTEND;TZID=America/New_York:20260118T170000
DTSTAMP:20260425T092220
CREATED:20251109T194937Z
LAST-MODIFIED:20251109T194937Z
UID:3904-1768550400-1768755600@theauthorspace.com
SUMMARY:Albuquerque Comic Con—Albuquerque
DESCRIPTION:New Mexico’s premiere pop culture event\, combining the brightest Comic and Media talent for the weekend. Organizers plan to make Albuquerque Comic Con 2026 even bigger\, promising more celebrity guests\, a larger cosplay contest\, and new interactive experiences.
URL:https://theauthorspace.com/event/albuquerque-comic-con-albuquerque/
END:VEVENT
BEGIN:VEVENT
DTSTART;TZID=America/New_York:20260116T080000
DTEND;TZID=America/New_York:20260119T170000
DTSTAMP:20260425T092220
CREATED:20251109T194606Z
LAST-MODIFIED:20251109T194606Z
UID:3902-1768550400-1768842000@theauthorspace.com
SUMMARY:Winter Poetry & Prose Getaway—Galloway\, NJ
DESCRIPTION:A participant-focused writers’ conference. Advance your craft and energize your writing at the 32nd annual Winter Poetry & Prose Getaway. Join us January 16-19\, 2026 at the historic Seaview Hotel near Atlantic City\, NJ. Enjoy challenging and supportive workshops\, insightful feedback and an encouraging community. Choose from workshops in poetry\, fiction\, nonfiction\, memoir\, songwriting and more.
URL:https://theauthorspace.com/event/winter-poetry-prose-getaway-galloway-nj/
END:VEVENT
BEGIN:VEVENT
DTSTART;TZID=America/New_York:20260118T080000
DTEND;TZID=America/New_York:20260118T170000
DTSTAMP:20260425T092220
CREATED:20251109T195140Z
LAST-MODIFIED:20251109T195140Z
UID:3906-1768723200-1768755600@theauthorspace.com
SUMMARY:Biographers International Organization (BIO) Biography Lab—New York City
DESCRIPTION:ONLINE—Features panels on current issues in biography and the craft of biography\, including discussions on building suspense\, getting into print\, Black women’s biography\, and much more.
URL:https://theauthorspace.com/event/biographers-international-organization-bio-biography-lab-new-york-city/
END:VEVENT
BEGIN:VEVENT
DTSTART;TZID=America/New_York:20260123T080000
DTEND;TZID=America/New_York:20260124T170000
DTSTAMP:20260425T092220
CREATED:20251109T193248Z
LAST-MODIFIED:20251109T193248Z
UID:3898-1769155200-1769274000@theauthorspace.com
SUMMARY:Sunshine State Book Festival—Gainesville\, Florida
DESCRIPTION:Authors from around Florida and the nation gather to talk about their writing\, sell\, and sign books. Includes a panel discussion\, story time for kids\, and more. It’s recommended to check the Writers Alliance of Gainesville website closer to the event for the most up-to-date information.
URL:https://theauthorspace.com/event/sunshine-state-book-festival-gainesville-florida/
END:VEVENT
BEGIN:VEVENT
DTSTART;TZID=America/New_York:20260124T080000
DTEND;TZID=America/New_York:20260124T170000
DTSTAMP:20260425T092220
CREATED:20251109T194309Z
LAST-MODIFIED:20251109T194309Z
UID:3900-1769241600-1769274000@theauthorspace.com
SUMMARY:JAX Urban Book Festival—Jacksonville\, Florida
DESCRIPTION:The JAX Urban Book Festival (JUBF) is an annual celebration of literature and culture founded by acclaimed author Dr. V Brooks Dunbar\, “Dr. V\,” and DREAMWEEK INC.\, a 501(c)(3) nonprofit dedicated to fostering social progress and community engagement inspired by Dr. King’s vision. Held each January as part of DREAMWEEK JAX\, the event showcases Jacksonville\, Florida as a vibrant hub for arts\, culture\, business\, and social progress.
URL:https://theauthorspace.com/event/jax-urban-book-festival-jacksonville-florida/
END:VEVENT
BEGIN:VEVENT
DTSTART;TZID=America/New_York:20260129T190000
DTEND;TZID=America/New_York:20260131T170000
DTSTAMP:20260425T092220
CREATED:20251118T005136Z
LAST-MODIFIED:20260102T024626Z
UID:3994-1769713200-1769878800@theauthorspace.com
SUMMARY:F.R.E.S.H. Book Festival—Daytona Beach\, Florida
DESCRIPTION:More than 40 authors and editors convene to discuss their books and upcoming projects\, and to share insight and wisdom related to their craft.The African American Children’s Book Fair
URL:https://theauthorspace.com/event/f-r-e-s-h-book-festival-daytona-beach-florida/
END:VEVENT
BEGIN:VEVENT
DTSTART;TZID=America/New_York:20260205T080000
DTEND;TZID=America/New_York:20260208T170000
DTSTAMP:20260425T092220
CREATED:20251118T005706Z
LAST-MODIFIED:20251118T005706Z
UID:3996-1770278400-1770570000@theauthorspace.com
SUMMARY:Savannah Book Festival—Savannah\, Georgia
DESCRIPTION:A four-day festival in Savannah’s Historic District in celebration of the written word and its role in improving the human experience. Authors with a book published within the calendar year of the Festival are invited to give 30-minute solo presentations and host book signings. Submissions for the 2026 Festival are open.
URL:https://theauthorspace.com/event/savannah-book-festival-savannah-georgia/
END:VEVENT
BEGIN:VEVENT
DTSTART;TZID=America/New_York:20260207T080000
DTEND;TZID=America/New_York:20260207T170000
DTSTAMP:20260425T092220
CREATED:20251118T011019Z
LAST-MODIFIED:20251118T011019Z
UID:4002-1770451200-1770483600@theauthorspace.com
SUMMARY:Flirty in Kansas City—Kansas City\, Missouri
DESCRIPTION:An awesome collection of authors comes together for a signing event in genres such as Romantic Suspense\, FBI/Source Romance\, and Paranormal Romance. Hosted by Eden Rose and Virginia Johnson.
URL:https://theauthorspace.com/event/flirty-in-kansas-city-kansas-city-missouri/
END:VEVENT
BEGIN:VEVENT
DTSTART;TZID=America/New_York:20260207T080000
DTEND;TZID=America/New_York:20260207T170000
DTSTAMP:20260425T092220
CREATED:20251118T011219Z
LAST-MODIFIED:20251118T011219Z
UID:4004-1770451200-1770483600@theauthorspace.com
SUMMARY:African American Children's Book Fair—Philadelphia\, PA
DESCRIPTION:One of the oldest and largest single-day events for children’s books in the country. It features nationally known bestselling authors and illustrators\, many of whom have won some of the most prestigious literary awards.
URL:https://theauthorspace.com/event/african-american-childrens-book-fair-philadelphia-pa/
END:VEVENT
BEGIN:VEVENT
DTSTART;TZID=America/New_York:20260213T080000
DTEND;TZID=America/New_York:20260215T170000
DTSTAMP:20260425T092220
CREATED:20251118T010135Z
LAST-MODIFIED:20251118T010135Z
UID:3998-1770969600-1771174800@theauthorspace.com
SUMMARY:Love Y'all Romance Book Fest—Atlanta\, Georgia
DESCRIPTION:An annual celebration of romance\, featuring 80 authors\, two days of panels and signings\, and exclusive author experiences.
URL:https://theauthorspace.com/event/love-yall-romance-book-fest-atlanta-georgia/
END:VEVENT
BEGIN:VEVENT
DTSTART;TZID=America/New_York:20260213T080000
DTEND;TZID=America/New_York:20260216T170000
DTSTAMP:20260425T092220
CREATED:20251118T012137Z
LAST-MODIFIED:20251118T012137Z
UID:4008-1770969600-1771261200@theauthorspace.com
SUMMARY:Little BIPOC Book Fest—Houston\, Texas
DESCRIPTION:The Little Fest is for children ages 3 to 10. A celebration centered on underrepresented voices through a showcase of literary works that feature Black\, Indigenous\, People of Color\, and other creatives of marginalized communities.
URL:https://theauthorspace.com/event/little-bipoc-book-fest-houston-texas/
END:VEVENT
BEGIN:VEVENT
DTSTART;TZID=America/New_York:20260214T080000
DTEND;TZID=America/New_York:20260214T170000
DTSTAMP:20260425T092220
CREATED:20251118T012520Z
LAST-MODIFIED:20251118T012520Z
UID:4012-1771056000-1771088400@theauthorspace.com
SUMMARY:Teen Bookfest by the Bay—Corpus Christi\, Texas
DESCRIPTION:A free festival open to the public featuring middle grade and young adult authors that supports\, promotes\, and celebrates the joy of reading.
URL:https://theauthorspace.com/event/teen-bookfest-by-the-bay-corpus-christi-texas/
END:VEVENT
BEGIN:VEVENT
DTSTART;TZID=America/New_York:20260221T080000
DTEND;TZID=America/New_York:20260221T170000
DTSTAMP:20260425T092220
CREATED:20251118T010715Z
LAST-MODIFIED:20251118T010715Z
UID:4000-1771660800-1771693200@theauthorspace.com
SUMMARY:DBC's 10th Annual African American Family Book Expo & Read-In\, Detroit\, Michigan
DESCRIPTION:24230 West McNichols Road \nDetroit\, MI 48219
URL:https://theauthorspace.com/event/dbcs-10th-annual-african-american-family-book-expo-read-in-detroit-michigan/
END:VEVENT
BEGIN:VEVENT
DTSTART;TZID=America/New_York:20260223T080000
DTEND;TZID=America/New_York:20260226T170000
DTSTAMP:20260425T092220
CREATED:20251118T011419Z
LAST-MODIFIED:20251118T011419Z
UID:4006-1771833600-1772125200@theauthorspace.com
SUMMARY:21st Annual Winter Institute (Wi2026)—Pittsburgh\, PA
DESCRIPTION:ABA’s premiere four-day annual industry conference features educational programming for indie bookstores\, as well as a pilot BIPOC bookseller pre-conference\, keynote talks\, author receptions\, publisher parties\, and dedicated time to network with booksellers\, authors\, and publishers from around the country.
URL:https://theauthorspace.com/event/21st-annual-winter-institute-wi2026-pittsburgh-pa/
END:VEVENT
BEGIN:VEVENT
DTSTART;TZID=America/New_York:20260226T080000
DTEND;TZID=America/New_York:20260228T170000
DTSTAMP:20260425T092220
CREATED:20251118T003304Z
LAST-MODIFIED:20251118T003304Z
UID:3988-1772092800-1772298000@theauthorspace.com
SUMMARY:Monroeville Literary Festival—Monroeville\, Alabama
DESCRIPTION:An annual mystery convention sponsored by mystery fans\, where readers\, authors\, critics\, librarians\, publishers\, and other fans can gather to pursue their mutual interests.
URL:https://theauthorspace.com/event/monroeville-literary-festival-monroeville-alabama/
END:VEVENT
BEGIN:VEVENT
DTSTART;TZID=America/New_York:20260226T080000
DTEND;TZID=America/New_York:20260228T170000
DTSTAMP:20260425T092220
CREATED:20251118T004746Z
LAST-MODIFIED:20251118T004746Z
UID:3992-1772092800-1772298000@theauthorspace.com
SUMMARY:Romantasy Book Con—Los Angeles\, California
DESCRIPTION:An immersive three-day event with 200+ authors and bookish vendors. Includes book signings\, workshops\, panels\, custom cocktails\, cosplay\, raffles\, a professional murder mystery performance\, the signature Realm of Romantasy\, and a Midnight Masquerade Ball.
URL:https://theauthorspace.com/event/romantasy-book-con-los-angeles-california/
END:VEVENT
BEGIN:VEVENT
DTSTART;TZID=America/New_York:20260226T080000
DTEND;TZID=America/New_York:20260301T170000
DTSTAMP:20260425T092220
CREATED:20251118T003639Z
LAST-MODIFIED:20251118T003639Z
UID:3990-1772092800-1772384400@theauthorspace.com
SUMMARY:Left Coast Crime—San Francisco\, California
DESCRIPTION:An annual mystery convention sponsored by mystery fans\, where readers\, authors\, critics\, librarians\, publishers\, and other fans can gather to pursue their mutual interests.
URL:https://theauthorspace.com/event/left-coast-crime-san-francisco-california/
END:VEVENT
END:VCALENDAR