BEGIN:VCALENDAR
VERSION:2.0
PRODID:-//The Author Space - ECPv6.15.20//NONSGML v1.0//EN
CALSCALE:GREGORIAN
METHOD:PUBLISH
X-WR-CALNAME:The Author Space
X-ORIGINAL-URL:https://theauthorspace.com
X-WR-CALDESC:Events for The Author Space
REFRESH-INTERVAL;VALUE=DURATION:PT1H
X-Robots-Tag:noindex
X-PUBLISHED-TTL:PT1H
BEGIN:VTIMEZONE
TZID:America/New_York
BEGIN:DAYLIGHT
TZOFFSETFROM:-0500
TZOFFSETTO:-0400
TZNAME:EDT
DTSTART:20240310T070000
END:DAYLIGHT
BEGIN:STANDARD
TZOFFSETFROM:-0400
TZOFFSETTO:-0500
TZNAME:EST
DTSTART:20241103T060000
END:STANDARD
BEGIN:DAYLIGHT
TZOFFSETFROM:-0500
TZOFFSETTO:-0400
TZNAME:EDT
DTSTART:20250309T070000
END:DAYLIGHT
BEGIN:STANDARD
TZOFFSETFROM:-0400
TZOFFSETTO:-0500
TZNAME:EST
DTSTART:20251102T060000
END:STANDARD
BEGIN:DAYLIGHT
TZOFFSETFROM:-0500
TZOFFSETTO:-0400
TZNAME:EDT
DTSTART:20260308T070000
END:DAYLIGHT
BEGIN:STANDARD
TZOFFSETFROM:-0400
TZOFFSETTO:-0500
TZNAME:EST
DTSTART:20261101T060000
END:STANDARD
END:VTIMEZONE
BEGIN:VEVENT
DTSTART;VALUE=DATE:20250921
DTEND;VALUE=DATE:20250922
DTSTAMP:20260425T120328
CREATED:20250820T175122Z
LAST-MODIFIED:20250820T175122Z
UID:3614-1758412800-1758499199@theauthorspace.com
SUMMARY:Brooklyn Book Festival—Brooklyn\, New York
DESCRIPTION:A literary celebration that includes readers\, publishers\, booksellers\, and hundreds of authors.  More than 200 local\, international\, debut and iconic authors are presented in panel discussions and book-signings on outdoor stages and with partner venues in Downtown Brooklyn.
URL:https://theauthorspace.com/event/brooklyn-book-festival-brooklyn-new-york/
END:VEVENT
BEGIN:VEVENT
DTSTART;VALUE=DATE:20250920
DTEND;VALUE=DATE:20250921
DTSTAMP:20260425T120328
CREATED:20250820T174456Z
LAST-MODIFIED:20250820T174456Z
UID:3610-1758326400-1758412799@theauthorspace.com
SUMMARY:LitUp Festival—Kansas City\, Missouri
DESCRIPTION:An all-day event that brings Kansas City-area teens together with authors\, poets\, illustrators\, and other creators. Not only will attendees be able to meet their favorite authors\, but they’ll also learn new ways to harness their own creative talents.
URL:https://theauthorspace.com/event/litup-festival-kansas-city-missouri/
END:VEVENT
BEGIN:VEVENT
DTSTART;VALUE=DATE:20250920
DTEND;VALUE=DATE:20250921
DTSTAMP:20260425T120328
CREATED:20250820T030242Z
LAST-MODIFIED:20250820T030242Z
UID:3581-1758326400-1758412799@theauthorspace.com
SUMMARY:Kansas Book Festival
DESCRIPTION:Designed to celebrate the best of Kansas literature\, arts and history\, this free festival offers a variety of activities\, including meet-the-author sessions\, panel discussions\, book signings and sales\, and a special tent with projects for children.
URL:https://theauthorspace.com/event/kansas-book-festival/
LOCATION:Washburn University\, Topeka\, KS\, United States
END:VEVENT
BEGIN:VEVENT
DTSTART;TZID=America/New_York:20250919T080000
DTEND;TZID=America/New_York:20250921T170000
DTSTAMP:20260425T120328
CREATED:20250820T172812Z
LAST-MODIFIED:20250820T172812Z
UID:3600-1758268800-1758474000@theauthorspace.com
SUMMARY:Provincetown Book Festival—Provincetown\, Massachusetts
DESCRIPTION:Meet acclaimed authors and guest speakers visiting othe famed arts colony for three days of free events\, including readings\, interviews\, conversations\, and the 2025 Rose Dorothea Award presentation.
URL:https://theauthorspace.com/event/provincetown-book-festival-provincetown-massachusetts/
END:VEVENT
BEGIN:VEVENT
DTSTART;TZID=America/New_York:20250918T080000
DTEND;TZID=America/New_York:20250920T170000
DTSTAMP:20260425T120328
CREATED:20250820T183152Z
LAST-MODIFIED:20250820T183152Z
UID:3630-1758182400-1758387600@theauthorspace.com
SUMMARY:Washington Island Literary Festival—Washington Island\, Wisconsin
DESCRIPTION:A moveable feast of writing\, reading\, discussion\, and thought about the written word. Writers’ workshops\, author panels and presentations\, readings and parties are scheduled at various quaint\, historic and beautiful venues around the Island.
URL:https://theauthorspace.com/event/washington-island-literary-festival-washington-island-wisconsin/
END:VEVENT
BEGIN:VEVENT
DTSTART;TZID=America/New_York:20250917T080000
DTEND;TZID=America/New_York:20250921T170000
DTSTAMP:20260425T120328
CREATED:20250820T023753Z
LAST-MODIFIED:20250820T023753Z
UID:3570-1758096000-1758474000@theauthorspace.com
SUMMARY:NINC 2025: THRIVE
DESCRIPTION:The Novelists\, Inc. conference brings together our members\, who are all multi-published authors in traditional and/or indie publishing\, with a wide variety of industry professionals and guest speakers for a unique experience of networking and high-level professional development.
URL:https://theauthorspace.com/event/ninc-2025-thrive/
LOCATION:St. Pete Beach\, FL
END:VEVENT
BEGIN:VEVENT
DTSTART;TZID=America/New_York:20250913T080000
DTEND;TZID=America/New_York:20250914T170000
DTSTAMP:20260425T120328
CREATED:20250820T031806Z
LAST-MODIFIED:20250820T031806Z
UID:3590-1757750400-1757869200@theauthorspace.com
SUMMARY:Fright Reads Book Festival—West Friendship
DESCRIPTION:Terrify yourself at this veteran-owned and operated festival of horror\, science fiction\, fantasy\, dystopia\, and thrillers that’ll have you screaming with delight! Featuring authors\, actors\, artists\, and creators of all kinds\, this event is family-friendly and full of spine-tingling fun!
URL:https://theauthorspace.com/event/fright-reads-book-festival-west-friendship/
END:VEVENT
BEGIN:VEVENT
DTSTART;TZID=America/New_York:20250913T080000
DTEND;TZID=America/New_York:20250914T170000
DTSTAMP:20260425T120328
CREATED:20250820T031610Z
LAST-MODIFIED:20250820T031610Z
UID:3588-1757750400-1757869200@theauthorspace.com
SUMMARY:Baltimore Book Festival—Baltimore
DESCRIPTION:Celebrates the city’s rich literary history\, vibrant present\, and bright future by connecting readers and authors and making the literary arts more engaging\, entertaining\, relevant\, and accessible for all Baltimoreans.
URL:https://theauthorspace.com/event/baltimore-book-festival-baltimore/
END:VEVENT
BEGIN:VEVENT
DTSTART;VALUE=DATE:20250913
DTEND;VALUE=DATE:20250914
DTSTAMP:20260425T120328
CREATED:20250820T181000Z
LAST-MODIFIED:20250820T181000Z
UID:3622-1757721600-1757807999@theauthorspace.com
SUMMARY:Milford Readers and Writers Festival—Milford\, Pennsylvania
DESCRIPTION:The festival aims to inspire and ignite conversations between people who love to read books and people who write them. Author John Berendt has referred to the festiva as “one of America’s most stimulating literary venues—for first-rank authors\, would-be authors\, and the reading public.
URL:https://theauthorspace.com/event/milford-readers-and-writers-festival-milford-pennsylvania/
END:VEVENT
BEGIN:VEVENT
DTSTART;VALUE=DATE:20250913
DTEND;VALUE=DATE:20250914
DTSTAMP:20260425T120328
CREATED:20250820T174209Z
LAST-MODIFIED:20250820T174209Z
UID:3608-1757721600-1757807999@theauthorspace.com
SUMMARY:Mississippi Book Festival—Jackson
DESCRIPTION:Free and open to all\, the festival brings the written word to fun\, festive life with authors\, panel discussions\, book signings\, family-friendly activities\, food trucks\, live music\, and more.
URL:https://theauthorspace.com/event/mississippi-book-festival-jackson/
END:VEVENT
BEGIN:VEVENT
DTSTART;VALUE=DATE:20250913
DTEND;VALUE=DATE:20250914
DTSTAMP:20260425T120328
CREATED:20250820T173929Z
LAST-MODIFIED:20250820T173929Z
UID:3606-1757721600-1757807999@theauthorspace.com
SUMMARY:Minnesota Children's Book Festival—Red Wing
DESCRIPTION:This beloved event features presentations of new books by award-winning authors and illustrators writing for young readers through middle grade.
URL:https://theauthorspace.com/event/minnesota-childrens-book-festival-red-wing/
END:VEVENT
BEGIN:VEVENT
DTSTART;TZID=America/New_York:20250907T093000
DTEND;TZID=America/New_York:20250907T170000
DTSTAMP:20260425T120328
CREATED:20250820T022411Z
LAST-MODIFIED:20250820T022411Z
UID:3564-1757237400-1757264400@theauthorspace.com
SUMMARY:Los Angeles Kids' Book Festival
DESCRIPTION:Enjoy LA’s first and largest event celebrating early education\, bilingualism\, and multiculturalism. A free event for the public presented by the ABC Foundation.
URL:https://theauthorspace.com/event/los-angeles-kids-book-festival/
LOCATION:West Hollywood Park\, 647 N San Vicente Blvd\, West Hollywood\, CA\, 90069\, United States
END:VEVENT
BEGIN:VEVENT
DTSTART;TZID=America/New_York:20250906T080000
DTEND;TZID=America/New_York:20250907T170000
DTSTAMP:20260425T120328
CREATED:20250820T024454Z
LAST-MODIFIED:20250820T024454Z
UID:3573-1757145600-1757264400@theauthorspace.com
SUMMARY:Printers Row Lit Fest
DESCRIPTION:The largest free outdoor literary showcase in the Midwest is a community-based celebration for book lovers presented by the not-for-profit Near South Planning Board. More than 100K visitors are expected over the two-day festival.
URL:https://theauthorspace.com/event/printers-row-lit-fest/
LOCATION:Printers Row Lit Fest\, Dearborn\, IL\, United States
END:VEVENT
BEGIN:VEVENT
DTSTART;VALUE=DATE:20250906
DTEND;VALUE=DATE:20250907
DTSTAMP:20260425T120328
CREATED:20250820T182233Z
LAST-MODIFIED:20250820T182233Z
UID:3628-1757116800-1757203199@theauthorspace.com
SUMMARY:Library of Congress National Book Festival—Washington\, D.C.
DESCRIPTION:An annual event that celebrates literature and literacy\, bringing together authors\, poets\, illustrators\, and readers for a day of book discussions\, panels\, and signings.
URL:https://theauthorspace.com/event/library-of-congress-national-book-festival-washington-d-c/
END:VEVENT
BEGIN:VEVENT
DTSTART;VALUE=DATE:20250906
DTEND;VALUE=DATE:20250907
DTSTAMP:20260425T120328
CREATED:20250820T174743Z
LAST-MODIFIED:20250820T174743Z
UID:3612-1757116800-1757203199@theauthorspace.com
SUMMARY:Independent Authors Book Expo—Roselle\, New Jersey
DESCRIPTION:Join the expo for workshops and events that empower independent authors and promote literacy. Meet and greet authors\, poets\, editors\, illustrators\, and more; attend author readings and book signings; join panel discussions and writing workshops; and participate in arts and crafts promo giveaways\, prizes\, and surprises.
URL:https://theauthorspace.com/event/independent-authors-book-expo-roselle-new-jersey/
END:VEVENT
BEGIN:VEVENT
DTSTART;VALUE=DATE:20250906
DTEND;VALUE=DATE:20250907
DTSTAMP:20260425T120328
CREATED:20250820T025555Z
LAST-MODIFIED:20250820T025555Z
UID:3577-1757116800-1757203199@theauthorspace.com
SUMMARY:Beyond the Book Festival
DESCRIPTION:The Starke County Public Library hosts this one-day event showcasing more than 30 local\, national and international authors. Authors will meet with festival attendees\, sign books\, give presentations and facilitate workshops as part of the day’s programming.
URL:https://theauthorspace.com/event/beyond-the-book-festival/
LOCATION:The Starke County Public Library\, Starke County\, IN\, United States
END:VEVENT
BEGIN:VEVENT
DTSTART;TZID=America/New_York:20250905T080000
DTEND;TZID=America/New_York:20250907T170000
DTSTAMP:20260425T120328
CREATED:20250820T173658Z
LAST-MODIFIED:20250820T173658Z
UID:3604-1757059200-1757264400@theauthorspace.com
SUMMARY:Diversicon 32—Plymouth\, Minnesota
DESCRIPTION:Programming includes guest readings and/or presentations; the usual lively mix of panels and discussions on Sci-Fi in literary media\, film\, TV\, and graphic arts; speculative science; alternative lifestyles; and—especially—multicultural Sci-Fi.
URL:https://theauthorspace.com/event/diversicon-32-plymouth-minnesota/
END:VEVENT
BEGIN:VEVENT
DTSTART;TZID=America/New_York:20250903T080000
DTEND;TZID=America/New_York:20250907T170000
DTSTAMP:20260425T120328
CREATED:20250820T030859Z
LAST-MODIFIED:20250820T030859Z
UID:3585-1756886400-1757264400@theauthorspace.com
SUMMARY:Bouchercon—New Orleans
DESCRIPTION:“Blood on the Bayou: Case Closed” is the theme for 2025. Annual world mystery convention where readers\, writers\, publishers\, editors\, agents\, booksellers\, and other lovers of crime fiction gather for a long weekend of education\, entertainment\, and fun.
URL:https://theauthorspace.com/event/bouchercon-new-orleans/
LOCATION:Marriott Hotel\, 555 Canal Street\, New Orleans\, LA\, United States
END:VEVENT
BEGIN:VEVENT
DTSTART;TZID=America/New_York:20250809T080000
DTEND;TZID=America/New_York:20250809T170000
DTSTAMP:20260425T120328
CREATED:20250623T223559Z
LAST-MODIFIED:20250623T223559Z
UID:3439-1754726400-1754758800@theauthorspace.com
SUMMARY:Northwoods Art & Book Festival
DESCRIPTION:The longest-running art and literature festival in the state is a tapestry of creativity and cultural celebration\, showcasing original artwork\, and books\, in a lively atmosphere with live music\, food trucks\, and more.
URL:https://theauthorspace.com/event/northwoods-art-book-festival/
END:VEVENT
BEGIN:VEVENT
DTSTART;TZID=America/New_York:20250801T080000
DTEND;TZID=America/New_York:20250803T170000
DTSTAMP:20260425T120328
CREATED:20250623T223243Z
LAST-MODIFIED:20250623T223243Z
UID:3437-1754035200-1754240400@theauthorspace.com
SUMMARY:National Book Club Conference
DESCRIPTION:Places readers in an upscale\, intimate environment with some of their favorite authors\, and introduces attendees to new talent to add to their reading lists. The annual weekend consists of numerous book club meetings\, panel discussions and other events that give readers facetime with authors.
URL:https://theauthorspace.com/event/national-book-club-conference/
END:VEVENT
BEGIN:VEVENT
DTSTART;TZID=America/New_York:20250731T080000
DTEND;TZID=America/New_York:20250802T180000
DTSTAMP:20260425T120328
CREATED:20250622T234940Z
LAST-MODIFIED:20250622T234940Z
UID:3413-1753948800-1754157600@theauthorspace.com
SUMMARY:Black Writers Weekend
DESCRIPTION:A one-of-a-kind gathering that connects fans and readers intimately with beloved authors\, esteemed screenwriters\, and luminaries from the worlds of film and TV.
URL:https://theauthorspace.com/event/black-writers-weekend/
END:VEVENT
BEGIN:VEVENT
DTSTART;TZID=America/New_York:20250724T080000
DTEND;TZID=America/New_York:20250727T180000
DTSTAMP:20260425T120328
CREATED:20250622T234323Z
LAST-MODIFIED:20250622T234323Z
UID:3411-1753344000-1753639200@theauthorspace.com
SUMMARY:San Diego Comic-Con
DESCRIPTION:The premier event for all things comics and related popular arts including movies\, television\, books\, gaming\, interactive multimedia\, and so much more.
URL:https://theauthorspace.com/event/san-diego-comic-con/
END:VEVENT
BEGIN:VEVENT
DTSTART;TZID=America/New_York:20250720T080000
DTEND;TZID=America/New_York:20250720T170000
DTSTAMP:20260425T120328
CREATED:20250623T000247Z
LAST-MODIFIED:20250623T000247Z
UID:3423-1752998400-1753030800@theauthorspace.com
SUMMARY:#KidsLit is Lit Festival
DESCRIPTION:The festival is back\, celebrating local children’s book authors with live readings\, book signings\, and hands-on literary activities. Kids can meet their favorite authors\, dive into fun storytelling sessions\, and even create their own mini-books!
URL:https://theauthorspace.com/event/kidslit-is-lit-festival/
END:VEVENT
BEGIN:VEVENT
DTSTART;TZID=America/New_York:20250720T080000
DTEND;TZID=America/New_York:20250720T170000
DTSTAMP:20260425T120328
CREATED:20250623T000051Z
LAST-MODIFIED:20250623T000051Z
UID:3421-1752998400-1753030800@theauthorspace.com
SUMMARY:Detroit Festival of Books
DESCRIPTION:The largest book festival in the state of Michigan\, featuring vendors from all over the U.S. and Canada. Dedicated to promoting the joy of reading and the rich culture surrounding it.
URL:https://theauthorspace.com/event/detroit-festival-of-books/
END:VEVENT
BEGIN:VEVENT
DTSTART;TZID=America/New_York:20250719T080000
DTEND;TZID=America/New_York:20250720T170000
DTSTAMP:20260425T120328
CREATED:20250622T235425Z
LAST-MODIFIED:20250622T235425Z
UID:3417-1752912000-1753030800@theauthorspace.com
SUMMARY:The Write Women Book Fest 2025
DESCRIPTION:A reader and author event focused on uplifting and amplifying the work of women and marginalized voices in publishing.
URL:https://theauthorspace.com/event/the-write-women-book-fest-2025/
END:VEVENT
BEGIN:VEVENT
DTSTART;TZID=America/New_York:20250719T080000
DTEND;TZID=America/New_York:20250719T170000
DTSTAMP:20260425T120328
CREATED:20250622T234057Z
LAST-MODIFIED:20250622T234057Z
UID:3409-1752912000-1752944400@theauthorspace.com
SUMMARY:Payson Book Festival
DESCRIPTION:Brought to you by the Rim Country Chapter of Arizona Professional Writers (APW)\, this event features appearances by authors from Rim Country and around Arizona. Also features book signings\, projects for the kids\,  live music\, and food.
URL:https://theauthorspace.com/event/payson-book-festival/
END:VEVENT
BEGIN:VEVENT
DTSTART;TZID=America/New_York:20250717T080000
DTEND;TZID=America/New_York:20250720T170000
DTSTAMP:20260425T120328
CREATED:20250622T235624Z
LAST-MODIFIED:20250622T235624Z
UID:3419-1752739200-1753030800@theauthorspace.com
SUMMARY:Readercon
DESCRIPTION:Although Readercon is modeled on general “science fiction conventions\,” it features a near-total focus on the written word. Features include panel discussions\, author readings\, and solo talks or workshops\, plus kaffeeklatsches\, autograph signings\, and extracurricular activities.
URL:https://theauthorspace.com/event/readercon/
END:VEVENT
BEGIN:VEVENT
DTSTART;TZID=America/New_York:20250712T080000
DTEND;TZID=America/New_York:20250713T170000
DTSTAMP:20260425T120328
CREATED:20250623T000520Z
LAST-MODIFIED:20250623T000520Z
UID:3425-1752307200-1752426000@theauthorspace.com
SUMMARY:Columbus Book Festival
DESCRIPTION:A free\, two-day book fest featuring a lineup of 200+ national and Columbus-based authors\, panel discussions\, author talks\, book signings\, and more.
URL:https://theauthorspace.com/event/columbus-book-festival/
END:VEVENT
BEGIN:VEVENT
DTSTART;TZID=America/New_York:20250710T080000
DTEND;TZID=America/New_York:20250712T170000
DTSTAMP:20260425T120328
CREATED:20250621T234613Z
LAST-MODIFIED:20250621T234613Z
UID:3404-1752134400-1752339600@theauthorspace.com
SUMMARY:RSJ Virtual Romance Book Con
DESCRIPTION:A three-day online event celebrating diversity in romance with authors\, readers\, and publishers. A Highlight of the event is the Registration Gift Box shipped directly to attendees with free books.
URL:https://theauthorspace.com/event/rsj-virtual-romance-book-con/
END:VEVENT
BEGIN:VEVENT
DTSTART;TZID=America/New_York:20250704T080000
DTEND;TZID=America/New_York:20250706T170000
DTSTAMP:20260425T120328
CREATED:20250622T235220Z
LAST-MODIFIED:20250622T235220Z
UID:3415-1751616000-1751821200@theauthorspace.com
SUMMARY:Essence Fest
DESCRIPTION:Immerse yourself into 20+ curated experiences that celebrate Black excellence in all its forms—from music and art to wellness\, style\, cuisine\, and commerce.
URL:https://theauthorspace.com/event/essence-fest/
END:VEVENT
END:VCALENDAR