BEGIN:VCALENDAR
VERSION:2.0
PRODID:-//The Author Space - ECPv6.15.20//NONSGML v1.0//EN
CALSCALE:GREGORIAN
METHOD:PUBLISH
X-ORIGINAL-URL:https://theauthorspace.com
X-WR-CALDESC:Events for The Author Space
REFRESH-INTERVAL;VALUE=DURATION:PT1H
X-Robots-Tag:noindex
X-PUBLISHED-TTL:PT1H
BEGIN:VTIMEZONE
TZID:America/New_York
BEGIN:DAYLIGHT
TZOFFSETFROM:-0500
TZOFFSETTO:-0400
TZNAME:EDT
DTSTART:20250309T070000
END:DAYLIGHT
BEGIN:STANDARD
TZOFFSETFROM:-0400
TZOFFSETTO:-0500
TZNAME:EST
DTSTART:20251102T060000
END:STANDARD
BEGIN:DAYLIGHT
TZOFFSETFROM:-0500
TZOFFSETTO:-0400
TZNAME:EDT
DTSTART:20260308T070000
END:DAYLIGHT
BEGIN:STANDARD
TZOFFSETFROM:-0400
TZOFFSETTO:-0500
TZNAME:EST
DTSTART:20261101T060000
END:STANDARD
BEGIN:DAYLIGHT
TZOFFSETFROM:-0500
TZOFFSETTO:-0400
TZNAME:EDT
DTSTART:20270314T070000
END:DAYLIGHT
BEGIN:STANDARD
TZOFFSETFROM:-0400
TZOFFSETTO:-0500
TZNAME:EST
DTSTART:20271107T060000
END:STANDARD
END:VTIMEZONE
BEGIN:VEVENT
DTSTART;TZID=America/New_York:20260226T080000
DTEND;TZID=America/New_York:20260228T170000
DTSTAMP:20260424T173853
CREATED:20251118T003304Z
LAST-MODIFIED:20251118T003304Z
UID:3988-1772092800-1772298000@theauthorspace.com
SUMMARY:Monroeville Literary Festival—Monroeville\, Alabama
DESCRIPTION:An annual mystery convention sponsored by mystery fans\, where readers\, authors\, critics\, librarians\, publishers\, and other fans can gather to pursue their mutual interests.
URL:https://theauthorspace.com/event/monroeville-literary-festival-monroeville-alabama/
END:VEVENT
BEGIN:VEVENT
DTSTART;TZID=America/New_York:20260226T080000
DTEND;TZID=America/New_York:20260228T170000
DTSTAMP:20260424T173853
CREATED:20251118T004746Z
LAST-MODIFIED:20251118T004746Z
UID:3992-1772092800-1772298000@theauthorspace.com
SUMMARY:Romantasy Book Con—Los Angeles\, California
DESCRIPTION:An immersive three-day event with 200+ authors and bookish vendors. Includes book signings\, workshops\, panels\, custom cocktails\, cosplay\, raffles\, a professional murder mystery performance\, the signature Realm of Romantasy\, and a Midnight Masquerade Ball.
URL:https://theauthorspace.com/event/romantasy-book-con-los-angeles-california/
END:VEVENT
BEGIN:VEVENT
DTSTART;TZID=America/New_York:20260226T080000
DTEND;TZID=America/New_York:20260301T170000
DTSTAMP:20260424T173853
CREATED:20251118T003639Z
LAST-MODIFIED:20251118T003639Z
UID:3990-1772092800-1772384400@theauthorspace.com
SUMMARY:Left Coast Crime—San Francisco\, California
DESCRIPTION:An annual mystery convention sponsored by mystery fans\, where readers\, authors\, critics\, librarians\, publishers\, and other fans can gather to pursue their mutual interests.
URL:https://theauthorspace.com/event/left-coast-crime-san-francisco-california/
END:VEVENT
BEGIN:VEVENT
DTSTART;TZID=America/New_York:20260228T080000
DTEND;TZID=America/New_York:20260228T170000
DTSTAMP:20260424T173853
CREATED:20251118T012332Z
LAST-MODIFIED:20251118T012332Z
UID:4010-1772265600-1772298000@theauthorspace.com
SUMMARY:San Antonio African American Book Festival—San Antonio\, Texas
DESCRIPTION:A festival committed to celebrating the power of Black literature\, reinforcing the fact that representation matters\, and encouraging black economics.
URL:https://theauthorspace.com/event/san-antonio-african-american-book-festival-san-antonio-texas/
END:VEVENT
END:VCALENDAR